BEGIN:VCALENDAR
VERSION:2.0
PRODID:-//Coaches {R} evolution™ formerly Coaches Evolve | Professional Certified Coach &amp; HeartMath Certified Trainer - ECPv6.15.20//NONSGML v1.0//EN
CALSCALE:GREGORIAN
METHOD:PUBLISH
X-WR-CALNAME:Coaches {R} evolution™ formerly Coaches Evolve | Professional Certified Coach &amp; HeartMath Certified Trainer
X-ORIGINAL-URL:https://coachesevolve.com
X-WR-CALDESC:Events for Coaches {R} evolution™ formerly Coaches Evolve | Professional Certified Coach &amp; HeartMath Certified Trainer
REFRESH-INTERVAL;VALUE=DURATION:PT1H
X-Robots-Tag:noindex
X-PUBLISHED-TTL:PT1H
BEGIN:VTIMEZONE
TZID:America/Los_Angeles
BEGIN:DAYLIGHT
TZOFFSETFROM:-0800
TZOFFSETTO:-0700
TZNAME:PDT
DTSTART:20240310T100000
END:DAYLIGHT
BEGIN:STANDARD
TZOFFSETFROM:-0700
TZOFFSETTO:-0800
TZNAME:PST
DTSTART:20241103T090000
END:STANDARD
BEGIN:DAYLIGHT
TZOFFSETFROM:-0800
TZOFFSETTO:-0700
TZNAME:PDT
DTSTART:20250309T100000
END:DAYLIGHT
BEGIN:STANDARD
TZOFFSETFROM:-0700
TZOFFSETTO:-0800
TZNAME:PST
DTSTART:20251102T090000
END:STANDARD
BEGIN:DAYLIGHT
TZOFFSETFROM:-0800
TZOFFSETTO:-0700
TZNAME:PDT
DTSTART:20260308T100000
END:DAYLIGHT
BEGIN:STANDARD
TZOFFSETFROM:-0700
TZOFFSETTO:-0800
TZNAME:PST
DTSTART:20261101T090000
END:STANDARD
BEGIN:DAYLIGHT
TZOFFSETFROM:-0800
TZOFFSETTO:-0700
TZNAME:PDT
DTSTART:20270314T100000
END:DAYLIGHT
BEGIN:STANDARD
TZOFFSETFROM:-0700
TZOFFSETTO:-0800
TZNAME:PST
DTSTART:20271107T090000
END:STANDARD
END:VTIMEZONE
BEGIN:VEVENT
DTSTART;TZID=America/Los_Angeles:20250909T000000
DTEND;TZID=America/Los_Angeles:20260209T235959
DTSTAMP:20260422T103056
CREATED:20241220T191913Z
LAST-MODIFIED:20260123T233112Z
UID:6264-1757376000-1770681599@coachesevolve.com
SUMMARY:Advanced Mentor Coaching - Spring 2026
DESCRIPTION:Wednesdays Group Mentor Support 3-4:30 PM PT (or TBD)4 Group Sessions + one or two 1:1 sessions : 10 CCEUs \n\n\n\nRegistration open Feb 9\, 2025. Winter Special: Normally $1600.00.Special $1400.00 \n\n\n\nREGISTRATION \n\n\n\n\n\nOur experienced coaches will work with a select group of aspiring coaches to enhance their skills and proficiency in coaching. This level of coaching goes beyond basic training and focuses on refining techniques\, deepening understanding\, and addressing specific challenges that arise in the practice of coaching. This course will cover professional coaches needing their mentoring/core competencies with ICF. Please contact Dr. Norwood directly to sign up for this class and pay for registration: drnorwood@coachesevolve.com  \n\n\n\n\nLearn More About Available Courses
URL:https://coachesevolve.com/event/advanced-mentor-coaching-fall-2025/
LOCATION:Nevada
CATEGORIES:Virtual Classes
ATTACH;FMTTYPE=image/png:https://coachesevolve.com/wp-content/uploads/2024/11/Copy-of-Advanced-Mentor-Coaching.png
END:VEVENT
BEGIN:VEVENT
DTSTART;TZID=America/Los_Angeles:20251215T120000
DTEND;TZID=America/Los_Angeles:20260130T120000
DTSTAMP:20260422T103056
CREATED:20241218T191634Z
LAST-MODIFIED:20260113T015913Z
UID:6201-1765800000-1769774400@coachesevolve.com
SUMMARY:ACC (Associate Certified Coach) Education by C{R}A - Winter 2026
DESCRIPTION:NEXT COHORTS: Jan 30-Feb 1 2026 Orientation \n\n\n\nCoaches Evolve: Coaches {R}evolution™ Academy (C{R}A)  now offers an ICF Level 1 ACC Program along with their Level 2 PCC Program. The Level 1 ACC Program refers to a coach training program that aligns with the standards set by the International Coaching Federation (ICF) for obtaining the Associate Certified Coach (ACC) credential. The ACC credential is the first of threelevels of coaching certification offered by the ICF (ACC\, PCC\, MCC). \n\n\n\nBenefits of the ICF ACC Credential:\n\n\n\n\nCredibility: It signifies that a coach has met a high standard of coaching trainingand practice.\n\n\n\nGlobal Recognition: The ICF credential is recognized globally as a mark ofprofessional excellence.\n\n\n\nProfessional Growth: It enhances coaching skills and career opportunities.Our accredited coach training program helps coaches meet these requirements. \n\n\n\n\nOur organization offers flexible schedules\, online formats\, and mentoring support to accommodate different learning preferences. \n\n\n\nWhat’s Included In ACC Training By C{R}A\n\n\n\n75 Hours of Coach-Specific Education (Evidence-Based Approaches: current research\, theories\, and strengths-based methodologies) 10 Hours of Mentor Coaching (included in the 75 hours)Performance EvaluationCoaching Hours of Experience \n\n\n\nOnce completed with Coaches Evolve: IAPC\, coaches continue to accumulate their 100 hours of coaching practice. At that time\, they can submit to ICF\, take the ACC Exam\, and receive their ICF ACC Coaching Credential.  \n\n\n\n\nLearn More About the ICF Level 1 ACC Program\n\n\n\n\nNext Session Starts Jan 30-Feb 1\, 2026 Orientation and Ends May 2026(Tues & Thurs 2-4 PM PT or TBD based on learner needs) + 3 weekends(Orientation\, Fishbowl Intensive-second month\, and Graduation)62 hours synchronous + 13 hours asynchronous \n\n\n\n				\n					\n					\n					C{R}A ACC Program Registration – Pay in Full\n				\n				$4\,995.00\n				\n				Add to cart
URL:https://coachesevolve.com/event/acc-associate-certified-coach-education-by-iapc-summer-2025/
LOCATION:ZOOM
ATTACH;FMTTYPE=image/png:https://coachesevolve.com/wp-content/uploads/2024/11/icf-lvl-1acc-11-16.png
END:VEVENT
END:VCALENDAR