BEGIN:VCALENDAR
VERSION:2.0
PRODID:-//Coaches {R} evolution™ formerly Coaches Evolve | Professional Certified Coach &amp; HeartMath Certified Trainer - ECPv6.15.20//NONSGML v1.0//EN
CALSCALE:GREGORIAN
METHOD:PUBLISH
X-ORIGINAL-URL:https://coachesevolve.com
X-WR-CALDESC:Events for Coaches {R} evolution™ formerly Coaches Evolve | Professional Certified Coach &amp; HeartMath Certified Trainer
REFRESH-INTERVAL;VALUE=DURATION:PT1H
X-Robots-Tag:noindex
X-PUBLISHED-TTL:PT1H
BEGIN:VTIMEZONE
TZID:America/Los_Angeles
BEGIN:DAYLIGHT
TZOFFSETFROM:-0800
TZOFFSETTO:-0700
TZNAME:PDT
DTSTART:20250309T100000
END:DAYLIGHT
BEGIN:STANDARD
TZOFFSETFROM:-0700
TZOFFSETTO:-0800
TZNAME:PST
DTSTART:20251102T090000
END:STANDARD
BEGIN:DAYLIGHT
TZOFFSETFROM:-0800
TZOFFSETTO:-0700
TZNAME:PDT
DTSTART:20260308T100000
END:DAYLIGHT
BEGIN:STANDARD
TZOFFSETFROM:-0700
TZOFFSETTO:-0800
TZNAME:PST
DTSTART:20261101T090000
END:STANDARD
BEGIN:DAYLIGHT
TZOFFSETFROM:-0800
TZOFFSETTO:-0700
TZNAME:PDT
DTSTART:20270314T100000
END:DAYLIGHT
BEGIN:STANDARD
TZOFFSETFROM:-0700
TZOFFSETTO:-0800
TZNAME:PST
DTSTART:20271107T090000
END:STANDARD
END:VTIMEZONE
BEGIN:VEVENT
DTSTART;TZID=America/Los_Angeles:20260316T080000
DTEND;TZID=America/Los_Angeles:20260410T170000
DTSTAMP:20260421T192122
CREATED:20241105T232154Z
LAST-MODIFIED:20260327T143431Z
UID:5815-1773648000-1775840400@coachesevolve.com
SUMMARY:ACC (Associate Certified Coach) Education by C{R}A - Spring (April 11) 2026
DESCRIPTION:Registration Open: \n\n\n\n\n\nCoaches Evolve: Coaches {R}evolution™ Academy now offers an ICF Level 1 ACC Program along with their Level 2 PCC Program. The Level 1 ACC Program refers to a coach training program that aligns with the standards set by the International Coaching Federation (ICF) for obtaining the Associate Certified Coach (ACC) credential. The ACC credential is the first of threelevels of coaching certification offered by the ICF (ACC\, PCC\, MCC). \n\n\n\nBenefits of the ICF ACC Credential:\n\n\n\n\nCredibility: It signifies that a coach has met a high standard of coaching trainingand practice.\n\n\n\nGlobal Recognition: The ICF credential is recognized globally as a mark ofprofessional excellence.\n\n\n\nProfessional Growth: It enhances coaching skills and career opportunities.Our accredited coach training program helps coaches meet these requirements. \n\n\n\n\nOur organization offers flexible schedules\, online formats\, and mentoring support to accommodate different learning preferences. \n\n\n\nWhat’s Included In ACC Training By IAPC\n\n\n\n75 Hours of Coach-Specific Education (Evidence-Based Approaches: current research\, theories\, and strengths-based methodologies) 10 Hours of Mentor Coaching (included in the 75 hours)Performance EvaluationCoaching Hours of Experience \n\n\n\nOnce completed with Coaches Evolve: IAPC\, coaches continue to accumulate their 100 hours of coaching practice. At that time\, they can submit to ICF\, take the ACC Exam\, and receive their ICF ACC Coaching Credential.  \n\n\n\n\nLearn More About the ICF Level 1 ACC Program\n\n\n\n\nNext Session Begins April 11 and Ends July 11\, 2026(Orientation\, Fishbowl Intensive-second month\, and Graduation)62 hours synchronous + 13 hours asynchronous \n\n\n\n				\n					\n					\n					C{R}A ACC Program Registration – Pay in Full\n				\n				\n				\n				Add to cart
URL:https://coachesevolve.com/event/acc-associate-certified-coach-training-by-iapc/
LOCATION:ZOOM
ATTACH;FMTTYPE=image/png:https://coachesevolve.com/wp-content/uploads/2024/11/icf-lvl-1acc-11-16.png
END:VEVENT
BEGIN:VEVENT
DTSTART;TZID=America/Los_Angeles:20260316T120000
DTEND;TZID=America/Los_Angeles:20260410T120000
DTSTAMP:20260421T192122
CREATED:20241218T185502Z
LAST-MODIFIED:20260323T181610Z
UID:6194-1773662400-1775822400@coachesevolve.com
SUMMARY:Coaches {R}evolution™ Academy Professional Coach Training With ICF Lvl 1 & 2 Dr. Norwood\, MCC - Spring 2026
DESCRIPTION:Registration Open: \n\n\n\n\n\nREGISTER TODAY! ORIENTATION CLASSES BEGIN April 11\, 2026 \n\n\n\nLearn more about taking the first step on the most rewarding journey you’ll ever take. Start at C{R}A and take on the world with insights\, deep learning\, and a brain\, body connection that you have been searching for. \n\n\n\nRegistration is now open for our Spring Session with Coaches {R}evolution™ Academy. REQUEST MORE INFORMATION \n\n\n\nRegistration Is Now Open & Closes April 10\, 2026 or when class is full. Register Today! \n\n\n\nPlease contact Dr. Norwood directly to learn more about the C{R}A -Academy and how this program can benefit you. Each customized session last approximately 1 hour and will be held virtually through ZOOM. To schedule your personal consultation email Dr. Norwood at drnorwood@coachesevolve.comThank you! \n\n\n\n\n\n\n\nSpring Classes 2026 SESSION CLASSES BEGIN April 11\,  2026 \n\n\n\n (Mon & Wed 2-4 PM PT or TBD based on group needs) + 3 weekends (Orientation\, Fishbowl Intensive-half way through\, and Graduation) \n\n\n\nHello to ALL professions\, for those folks desirous of becoming a professional coach! Every organization\, group\, or individual benefits greatly from professional coaching. Join the growing profession! \n\n\n\nWe are ready to launch our next professional coaching academy this spring\, April 11. We have been in operation since 2021. Students are graduating as highly impactful coaches and are taking the next step with ICF to be certified as either ACC or PCC coaches. \n\n\n\nInformational Sessions Available Upon Request to Introduce a Coaching Pathway and Answer Questions\n\n\n\nGeared toward the working adult \n\n\n\n6-month certification program to prepare you in becoming a professional coach \n\n\n\nTo find out details\, email Dr. Kathy Norwood directly using our contact form and she will follow up via email and provide a zoom informational session. \n\n\n\n\nEmail Dr. Kathy Norwood Your Questions\n\n\n\n\n\n\n\n\nClasses Now Forming. Space is Limited.\n\n\n\nInternational Academy of Professional Coaching\n\n\n\n\n\n\n\n\n\n\n\nWe awaken the genius and passion within—activating the Positive Core that transforms accomplished professionals into extraordinary coaches and leaders. Through a powerful integration of Appreciative Inquiry\, coherence\, and evidence-based practice\, we blend tradition with innovation to cultivate the next generation of change-makers. Our coaches and leaders learn to inspire possibility\, envision bold futures\, navigate complexity with clarity\, and communicate with intention—while generating resilience and coherence within themselves and the systems they serve.\n\n\n\nThe C{R}A Difference: Cross Fertilization of Research\, Theory\, Knowledge\, Practice\n\n\n\nAt Coaches {R}evolution™ Academy\, we honor a definition of “best current knowledge” that extends far beyond Eurocentric ideals. We draw upon diverse ways of knowing—modern research\, timeless theories\, and the wisdom traditions of cultures across the world. By cross-fertilizing research\, practice\, and lived experience\, we believe coaching potential expands—not only within education\, but across every professional and human context. \n\n\n\nAt the center of this journey is personal development. Participants are invited to reflect deeply: Who am I becoming\, and how do I prepare myself to engage in transformational coaching that touches hearts\, expands minds\, and awakens possibility? \n\n\n\nTrue transformation—whether in classrooms\, boardrooms\, communities\, or organizations—requires cultivating the intellectual\, emotional\, behavioral\, spiritual\, and relational capacities that inspire lasting change. This work also calls us to hold equity and inclusion as guiding commitments\, recognizing that profound coaching begins with the courage to embody change within ourselves. \n\n\n\nOur program is designed to be flexible and responsive. Whether your context is early childhood\, higher education\, human resources\, leadership\, executive coaching\, business\, or beyond\, you will be able to customize your learning journey. What unites us is not our title\, but our shared calling to coach with presence\, purpose\, and impact. \n\n\n\nReview Modules 1-5Total 150 Coach Specific Education Hours \n\n\n\nDepending on your goals this program may satisfy the needs of a training program or certification you wish to gain. See International Coaching Federation credentialing requirements BY CLICKING HERE. \n\n\n\nOur Mission at C{R}A\n\n\n\nWe exist to bridge professional coaching into the fabric of personal and professional life\, activating the Positive Core and cultivating coaches and leaders who inspire possibility\, envision new futures\, navigate complexity\, and foster resilience and coherence within individuals and systems. \n\n\n\nOur Vision at C{R}A\n\n\n\nWe envision a world where coaches ignite the genius and passion within every individual—elevating educators and professionals into brilliance and co-creating more equitable\, human-centered\, and inspiring environments for learning and work. \n\n\n\nTeaching Philosophy at C{R}A\n\n\n\nOur educational approach applies adult learning theory for the working adult customized to their context. The program is flexible\, practice-oriented\, competency-based\, and grounded in educator-driven inquiry. We use a proven cohort learning model to create a vibrant\, collaborative learning community built on inclusion and mutual respect. We apply the gradual release of responsibility model—To\, With\, and By—where instructors teach\, model\, walk along-side\, and coach individuals through the differing aspects of the program toward a level of independence. Budding coaches discover their professional identity as coach\, anchor their learning through the compilation of a portfolio that houses the full requirements of the course\, and complete certification with C{R}A. \n\n\n\nEvidence-Based Coaching\n\n\n\nWe use the term evidence-based to refer to an informed approach to coaching\, which\, as Stober and Grant (Evidence Based Coaching Handbook\, 2006) stated\, consists of “the intelligent and conscientious use of best current knowledge integrated with practitioner expertise in making decisions about how to deliver coaching to individual coaching clients” (p. 6). The value of this approach is that it “provides theoretical frameworks\, information\, critical thinking\, and methodological rigor that the practitioner can use to navigate the ever-changing waters of the coaching intervention” (p. 6). \n\n\n\n \n\n\n\n \n\n\n\nJoin us as we lay out a coach training path that can work for you. \n\n\n\n\n\n\n\n\n\n\n\nWe Envision the creation of a world-wide movement that paves the way for transformational leaders and coaches to become highly qualified for professional coach credentialing with the International Coach Federation. As catalysts of change\, these leaders are visionaries who embrace foundational evidence-based approaches while also transcending convention to achieve individual and systemic transformation. \n\n\n\n\n\n\n\nA FEW QUOTES FROM DR. NORWOOD’S COACH TRAINING SESSIONS\n\n\n\nI was incredibly fortunate that Kathy Norwood was my coach and mentor during my coaching training. Kathy is a wise repository of coaching research and practice and she is kind and generous.  Throughout my training she was beside me\, challenging me\, cheering me on\, and providing insights at just the best moments. She helped me find and cultivate my strengths and to coach to the unseen. Kathy is a fabulous coach and mentor. Carrie-Ann Tkaczyk\, PCC\, Instructional and Mentor Coach\, NCSD\n\n\n\nI have benefited from having Kathy\, both as a trainer and as a coach. Having Kathy as a coach who walks with you in the moment is INVALUABLE. It is the gift of space and clarification that we need. In tough situations when I wish she were here\, I then realize I have learned to internalize the process of coaching for myself. As a coach\, I have learned to stop stealing learning opportunities from others–I am providing them wait time and have learned to reframe questions to help them discover answers on their own. The power from that single moment empowers and propels them forward. Melissa Thurman\, CEO\, Educational Excellence\, Oregon\n\n\n\nKathy’s coaching sessions have given me the ability to deepen my leadership skills as a new principal. Being an educational leader is a complex job and oftentimes I found that when I was in a difficult situation Kathy could help me pinpoint my thoughts and assist me in developing an action plan. Besides being an incredible listener and thoughtful person\, she has the innate ability to ask the kinds of questions that allow me to gain insight about myself as a leader. I always leave a coaching session with Kathy feeling grounded\, confident\, and ready to tackle the next challenge. Andrea Sande\, Former Principal; State Consultant for Educational Excellence\, Oregon\n\n\n\n \n\n\n\n\nWe must learn how to work with and guide adult learners toward new levels of competence\, problem- solving capabilities\, creativity\, and higher levels of achievement\, while honoring and respecting their humanity and capacity to find their own answers.   \n(Norwood\, 2007)\n\n\n\n\nSEE CALENDAR OF EVENTS
URL:https://coachesevolve.com/event/professional-coach-training-with-icf-lvl-2-mcc-dr-norwood-spring-2026/
LOCATION:ZOOM
CATEGORIES:Virtual Classes
ATTACH;FMTTYPE=image/jpeg:https://coachesevolve.com/wp-content/uploads/2024/04/IACP-Informational-QandA-2024.jpg
END:VEVENT
BEGIN:VEVENT
DTSTART;TZID=America/Los_Angeles:20260623T073000
DTEND;TZID=America/Los_Angeles:20260625T153000
DTSTAMP:20260421T192122
CREATED:20260305T215442Z
LAST-MODIFIED:20260306T012047Z
UID:8478-1782199800-1782401400@coachesevolve.com
SUMMARY:Appreciative Inquiry for the Evolving Coach Seminar (Now Registering Summer 2026)
DESCRIPTION:Unleash the Power Within for Appreciative & Coherent Coaching \n\n\n\n“This is what you’ll experience\, why it matters\, and what you’ll walk away able to do and—even more importantly—who you become.” \n\n\n\nSpace is Limited. Join us June 23-25 at Tuscany Recreation Center.Format: In-Person | Time: 18 Hours (ICF CEUs or PDUS = 18) \n\n\n\nREGISTRATION OPEN  March 4\, 2026 \n\n\n\n\n\nENROLL TODAY. SPACE IS LIMITED.Early Bird Pricing Available Through May 31st \n\n\n\n\n\n\nSaleProduct on sale\n\n\n\n\nAppreciative Inquiry Seminar\n\n\n\n\n					$675.00 Original price was: $675.00.$575.00Current price is: $575.00.\n				\n\n\n				Coaching is not just about what we do—it is shaped by who we are while we are doing it.\nThis 3-day immersive training is designed for coaches who want to move beyond tools and techniques to develop the inner capacities that make coaching transformational: presence\, coherence\, generative inquiry\, and the ability to work skillfully with possibility.\nTake advantage of Early Bird pricing by registering early. Discounts reflected\, register today. \n\n			\n\n\n	\n	\n		\n		\n		Appreciative Inquiry Seminar quantity\n	\n	\n\n		Add to cart\n\n			\n\n	\n\n\n\n\n\n				SKU:\n				AIEC-UPC-Seminar-626\n				\n			\n\nCategory: In-Person Workshops\n\nTags: Seminars\n\n\n\n\n\n\n\nClass Size is limited to support depth\, safety\, and practiceTraining provided by Dr. Kathy Norwood\, MCC & the presenting materials derived from the literature published by Dr. Mary Ann Burke and Dr. Kathy Norwood\, Appreciative Inquiry for the Evolving Coach: Unleashing the Positive Core \n\n\n\nDay 1 & 2:  \n\n\n\nUnleashing the Positive Core & The Appreciative Inquiry 5 D Cycle \n\n\n\nAcross Days 1 and 2\, coaches step into the practice of unleashing the Positive Core—the strengths\, values\, and life-giving forces that fuel growth and possibility. You’ll learn how to shift from problem-solving to possibility-creating by orienting your coaching presence toward what gives life\, energy\, and meaning. \n\n\n\nThrough experiential learning and live coaching practice\, you will learn how to move fluidly through the Appreciative Inquiry 5-D Cycle—Define\, Discover\, Dream\, Design\, and Destiny—as a coach. Rather than using the model mechanically\, you’ll experience how the cycle supports clarity\, momentum\, and ethical influence within real coaching conversations. Appreciative Inquiry becomes not just a framework\, but a way of seeing\, listening\, and being. \n\n\n\nTHE BRIDGE “Appreciative Inquiry opens the door to possibility—but coherence\, vibration\, and embodied presence are what allow us to walk through it. In this final movement on Day 3 of the journey\, we shift from discovery into activation\, aligning brain\, heart\, and the field around us so that what we’ve named and designed becomes lived\, sustained\, and expressed through how we show up.” \n\n\n\nDay 3:  \n\n\n\nDreams into Reality: Activating Brain\, Heart and Quantum Potential ● Aligning brain\, heart\, and field to live what’s calling you \n\n\n\nDay 3 focuses on translating insight and aspiration into aligned action and sustainable change. Coaches explore how dreams are not wishful thinking\, but signals of emerging potential—invitations waiting to be shaped through conscious choice\, coherence\, and design. \n\n\n\nYou’ll learn how to support clients in moving from vision to embodiment by aligning insight\, emotion\, energy\, and action. Through integrative practices and applied coaching\, you’ll discover how to help clients bring dreams into reality—not through force or fixing\, but through clarity\, resonance\, and purposeful movement forward. \n\n\n\nA 3-Day Appreciative & Coherent Coach Training      ●   A transformational learning experience integratingAppreciative Inquiry • Neuroscience • HeartMath® Coherence • Field-AwareCoaching \n\n\n\nOUR INVITATION\n\n\n\nCoaching is not just about what we do—it is shaped by who we are while we are doing it. This 3-day immersive training is designed for coaches who want to move beyond tools and techniques to develop the inner capacities that make coaching transformational: presence\, coherence\, generative inquiry\, and the ability to work skillfully with possibility.  \n\n\n\nRooted in Appreciative Inquiry for the Evolving Coach: Unleashing the Positive Core\, this experience invites you to experience Appreciative Inquiry from the inside out—first as a human being\, then as a coach. You will explore how coherence shapes the relational field\, how inquiry opens possibility\, and how identity anchors sustainable change. \n\n\n\nTHIS TRAINING IS IDEAL FOR\n\n\n\nCoaches seeking to deepen presence\, confidence\, and impact     ●    New and experienced coaches wanting a strong theoretical and experientialfoundation     ●    Leaders\, educators\, and facilitators who use coaching approaches     ●    Coaches pursuing ICF-aligned professional developmentNo prior experience with Appreciative Inquiry or HeartMath® is required. It is strongly recommended to read the book Appreciative Inquiry for the Evolving Coach: Unleashing the Positive Core \n\n\n\nLocation: Tuscany Recreation Center  850 Olivia Parkway Henderson NV 89011 (close to beautiful Lake Las Vegas: Westin and Hilton Hotels) \n\n\n\nWHAT MAKES THIS TRAINING DISTINCTIVE?\n\n\n\nThis is not a lecture-based workshop.It is an experiential\, evidence-informed learning journey that integrates: ● Appreciative Inquiry as a mindset and methodology ● Neuroscience of learning\, identity\, and change ● HeartMath® coherence practices for self-regulation and relational presence ● Field-aware coaching ● ICF Core Competencies\, woven throughoutYou will not only learn about these approaches—you will practice them in real time. \n\n\n\nSchedule OverviewTuesday-Thursday June 23-25 from 7:30am – 3:30pm with an hour for lunchMornings Include: Coffee\, Tea and Water; PastriesLunch will be provided \n\n\n\nCLEAR OBJECTIVES: What you will Learn & what you will Develop\n\n\n\nBy the end of this 3-day training\, you will be able to: \n\n\n\n     ●    Coach from an Appreciative MindsetShift from problem-fixing to possibility-creating by working with strengths\, values\, and the Positive Core.     ●    Cultivate Coherence as a Coaching CapacityUse HeartMath® practices to regulate your state\, align energy and attention\, and coach from presence\, clarity\, and trust.     ●    Deepen Coaching Presence & Generative ListeningListen beyond words—maintaining presence in complexity\, emotion\, and uncertainty.     ●    Ask Questions That Open PossibilityDesign appreciative questions that shape insight\, movement\, and identity growth.     ●    Support Clients in Future-Focused ChangeFacilitate vision- and Dream-phase conversations that help clients live into what’s calling them.     ●   Sustain Change Over TimeCo-design coherent actions aligned with values and energy\, and work appreciatively with setbacks.     ●    Coach Ethically\, Inclusively & with CareApply Appreciative Inquiry responsibly—with cultural humility\, trauma awareness\, and integrity. \n\n\n\nThis seminar is designed for ALL professionals who desire to embody their fullness and experience more personal power in their lives. (Leaders\, professional coaches\, educators\, HR\, and folks from any profession). Everyone benefits. \n\n\n\n18 ICF CCEUs or 18 PDUs will be provided \n\n\n\nWHAT THE 3 DAYS WILL FEEL LIKE \n\n\n\nHighly interactive and experiential ● Paired and small-group coaching practice ● Reflection\, journaling\, and integration ● Grounded in evidence\, spacious in pace ● Designed for depth without overwhelmThis is a learning environment that values safety\, curiosity\, and human dignity. \n\n\n\nTraining Details\n\n\n\nDuration: 3 Days | 18 Total Hours (ICF CCEUs or PDUs) | Includes: \n\n\n\n\nFacilitated training\n\n\n\nParticipant Journal/Appreciative Placemat\n\n\n\nGuided coherence practices\n\n\n\nCertificate of completion\n\n\n\nMusic & Food\n\n\n\n\nSIGN UP NOW! SPACE IS LIMITED\n\n\n\nIf you are ready to:➣Coach from presence rather than pressure➣Ask questions that open futures➣Develop coherence as a professional capacity➣Anchor your coaching in strengths\, dignity\, and possibility…then this training is for you. \n\n\n\nAbout the Instructor\n\n\n\n\n\n\n\nKathy Norwood Ed. D\, MCC \n\n\n\nDr. Norwood is co-owner of Coaches Evolve and director and creator of the Coaches {R}evolution™Academy (ICF Accreditation-Level 1 & 2). She is a Master Certified Coach (MCC) with a doctorate in Educational Leadership and Change. Kathy is a Pre-K-12 national educational consultant\, trainer\, master certified coach\, and author\, working in the field of Education for over 40 years. She also teaches in the Evidence-Based Coaching Program for Fielding Graduate University and the Leadership Coaching Cohort (LCC)/Organizational Dynamics at University of Pennsylvania. The HeartMath® Institute has licensed Dr. Norwood as a HeartMath® Certified Trainer. Kathy has the gift of inspiring passion and deep commitment to thepower of transformational coaching. Her joy and compassion ignite hope and new purpose in hearts and souls\, as she invites folks to refresh\, revitalize\, and reimagine their calling. \n\n\n\n\nABOUT DR. KATHY NORWOOD\, MCC\n\n\n\n\n\n\n\n\nSIGN UP NOW! SPACE IS LIMITED\n\n\n\nMake the Most of this Course. Order You Book Today.\n\n\n\n				\n					\n					\n					Appreciative Inquiry for the Evolving Coach: Unleashing the Positive Core\n				\n				$26.95\n				\n				Buy Now
URL:https://coachesevolve.com/event/appreciative-inquiry-for-the-evolving-coach-seminar-now-registering-summer-2026/
LOCATION:Tuscany Recreation Center\, 850 Olivia Parkway\, Henderson\, Nevada\, 89011\, United States
CATEGORIES:Appreciative Inquiry Seminar,In-Person Coach Training
ATTACH;FMTTYPE=image/png:https://coachesevolve.com/wp-content/uploads/2026/01/ai-seminar-no-date.png
END:VEVENT
END:VCALENDAR