BEGIN:VCALENDAR
VERSION:2.0
PRODID:-//Coaches {R} evolution™ formerly Coaches Evolve | Professional Certified Coach &amp; HeartMath Certified Trainer - ECPv6.15.20//NONSGML v1.0//EN
CALSCALE:GREGORIAN
METHOD:PUBLISH
X-WR-CALNAME:Coaches {R} evolution™ formerly Coaches Evolve | Professional Certified Coach &amp; HeartMath Certified Trainer
X-ORIGINAL-URL:https://coachesevolve.com
X-WR-CALDESC:Events for Coaches {R} evolution™ formerly Coaches Evolve | Professional Certified Coach &amp; HeartMath Certified Trainer
REFRESH-INTERVAL;VALUE=DURATION:PT1H
X-Robots-Tag:noindex
X-PUBLISHED-TTL:PT1H
BEGIN:VTIMEZONE
TZID:America/Los_Angeles
BEGIN:DAYLIGHT
TZOFFSETFROM:-0800
TZOFFSETTO:-0700
TZNAME:PDT
DTSTART:20190310T100000
END:DAYLIGHT
BEGIN:STANDARD
TZOFFSETFROM:-0700
TZOFFSETTO:-0800
TZNAME:PST
DTSTART:20191103T090000
END:STANDARD
BEGIN:DAYLIGHT
TZOFFSETFROM:-0800
TZOFFSETTO:-0700
TZNAME:PDT
DTSTART:20200308T100000
END:DAYLIGHT
BEGIN:STANDARD
TZOFFSETFROM:-0700
TZOFFSETTO:-0800
TZNAME:PST
DTSTART:20201101T090000
END:STANDARD
BEGIN:DAYLIGHT
TZOFFSETFROM:-0800
TZOFFSETTO:-0700
TZNAME:PDT
DTSTART:20210314T100000
END:DAYLIGHT
BEGIN:STANDARD
TZOFFSETFROM:-0700
TZOFFSETTO:-0800
TZNAME:PST
DTSTART:20211107T090000
END:STANDARD
END:VTIMEZONE
BEGIN:VEVENT
DTSTART;TZID=America/Los_Angeles:20200622T080000
DTEND;TZID=America/Los_Angeles:20200622T100000
DTSTAMP:20260422T210558
CREATED:20200609T031046Z
LAST-MODIFIED:20200609T031455Z
UID:456-1592812800-1592820000@coachesevolve.com
SUMMARY:Resilience: Maximizing Power and Poise! (Part 3 of 5)
DESCRIPTION:A high level of mental and emotional capacity is required today due to the complexity and sense of urgency around our work. We are faced with making important decisions quickly\, often without all the information we need. The choices we make have broad effects and at times we feel we are in over our heads. How do we build inner resilience to do the good work we have signed up to do? Resilience is the capacity to prepare for\, recover from\, and adapt to\, in the face of stress\, challenge or adversity. Gaining and maintaining coherence is all about the heart\, mind\, emotions\, and body working in sync. Our ability to stay in an inner state of ease and flow through the day is determined by our ability to self-regulate our emotions\, stop energy leaks\, and renew our energy. Coherence is an optimal physiological state of functioning and the essential key to building our resilience capacity. \nObjectives\n• Explore the 4 domains of resilience: physical\, emotional\, mental\, and spiritual\n• Understand the biological communication between the heart\, the brain\, and the rest of the body\n• Discover the power of the heart and learn to access heart intelligence\n• Learn to plug energy leaks and build and sustain your reserves\n• Understand the concept of coherence and how it relates to resilience and performance\n• Practice heart coherence and learn to create a new baseline for coherence by practicing with Inner Balance Technology (download app\, connect to your ear and phone; observe your HRV (heart rate variability)\n• Learn resilience heart intelligence techniques such as the Heart Lock Technique to help you recharge your emotional system\n• Create an initial action place for continued practice with the techniques \nAll participants will receive a technology device called the Inner Balance (connects to your cell phone). You will practice heart intelligence techniques with your technology in between sessions.
URL:https://coachesevolve.com/event/resilience-maximizing-power-and-poise-part-3-of-5/
CATEGORIES:Virtual Classes
ATTACH;FMTTYPE=image/jpeg:https://coachesevolve.com/wp-content/uploads/2020/06/teacher-3765909_1920.jpg
END:VEVENT
BEGIN:VEVENT
DTSTART;TZID=America/Los_Angeles:20200619T080000
DTEND;TZID=America/Los_Angeles:20200619T100000
DTSTAMP:20260422T210558
CREATED:20200609T031007Z
LAST-MODIFIED:20200609T031404Z
UID:450-1592553600-1592560800@coachesevolve.com
SUMMARY:Resilience: Maximizing Power and Poise! (Part 2 of 5)
DESCRIPTION:A high level of mental and emotional capacity is required today due to the complexity and sense of urgency around our work. We are faced with making important decisions quickly\, often without all the information we need. The choices we make have broad effects and at times we feel we are in over our heads. How do we build inner resilience to do the good work we have signed up to do? Resilience is the capacity to prepare for\, recover from\, and adapt to\, in the face of stress\, challenge or adversity. Gaining and maintaining coherence is all about the heart\, mind\, emotions\, and body working in sync. Our ability to stay in an inner state of ease and flow through the day is determined by our ability to self-regulate our emotions\, stop energy leaks\, and renew our energy. Coherence is an optimal physiological state of functioning and the essential key to building our resilience capacity. \nObjectives\n• Explore the 4 domains of resilience: physical\, emotional\, mental\, and spiritual\n• Understand the biological communication between the heart\, the brain\, and the rest of the body\n• Discover the power of the heart and learn to access heart intelligence\n• Learn to plug energy leaks and build and sustain your reserves\n• Understand the concept of coherence and how it relates to resilience and performance\n• Practice heart coherence and learn to create a new baseline for coherence by practicing with Inner Balance Technology (download app\, connect to your ear and phone; observe your HRV (heart rate variability)\n• Learn resilience heart intelligence techniques such as the Heart Lock Technique to help you recharge your emotional system\n• Create an initial action place for continued practice with the techniques \nAll participants will receive a technology device called the Inner Balance (connects to your cell phone). You will practice heart intelligence techniques with your technology in between sessions.
URL:https://coachesevolve.com/event/resilience-maximizing-power-and-poise-part-2-of-5/
CATEGORIES:Virtual Classes
ATTACH;FMTTYPE=image/jpeg:https://coachesevolve.com/wp-content/uploads/2020/06/teacher-4784916_1920.jpg
END:VEVENT
BEGIN:VEVENT
DTSTART;TZID=America/Los_Angeles:20200615T080000
DTEND;TZID=America/Los_Angeles:20200615T100000
DTSTAMP:20260422T210558
CREATED:20200609T030207Z
LAST-MODIFIED:20200609T031440Z
UID:446-1592208000-1592215200@coachesevolve.com
SUMMARY:Resilience: Maximizing Power and Poise! (Part 1 of 5)
DESCRIPTION:A high level of mental and emotional capacity is required today due to the complexity and sense of urgency around our work. We are faced with making important decisions quickly\, often without all the information we need. The choices we make have broad effects and at times we feel we are in over our heads. How do we build inner resilience to do the good work we have signed up to do? Resilience is the capacity to prepare for\, recover from\, and adapt to\, in the face of stress\, challenge or adversity. Gaining and maintaining coherence is all about the heart\, mind\, emotions\, and body working in sync. Our ability to stay in an inner state of ease and flow through the day is determined by our ability to self-regulate our emotions\, stop energy leaks\, and renew our energy. Coherence is an optimal physiological state of functioning and the essential key to building our resilience capacity. \nObjectives\n• Explore the 4 domains of resilience: physical\, emotional\, mental\, and spiritual\n• Understand the biological communication between the heart\, the brain\, and the rest of the body\n• Discover the power of the heart and learn to access heart intelligence\n• Learn to plug energy leaks and build and sustain your reserves\n• Understand the concept of coherence and how it relates to resilience and performance\n• Practice heart coherence and learn to create a new baseline for coherence by practicing with Inner Balance Technology (download app\, connect to your ear and phone; observe your HRV (heart rate variability)\n• Learn resilience heart intelligence techniques such as the Heart Lock Technique to help you recharge your emotional system\n• Create an initial action place for continued practice with the techniques \nAll participants will receive a technology device called the Inner Balance (connects to your cell phone). You will practice heart intelligence techniques with your technology in between sessions.
URL:https://coachesevolve.com/event/resilience-maximizing-power-and-poise-part-1-of-5/
LOCATION:This Event is Virtual
CATEGORIES:Virtual Classes
ATTACH;FMTTYPE=image/jpeg:https://coachesevolve.com/wp-content/uploads/2020/04/8-year-old-Keyshawn-on-emWave-Pro-1.jpg
END:VEVENT
BEGIN:VEVENT
DTSTART;TZID=America/Los_Angeles:20200611T080000
DTEND;TZID=America/Los_Angeles:20200611T170000
DTSTAMP:20260422T210558
CREATED:20200611T235423Z
LAST-MODIFIED:20200611T235423Z
UID:484-1591862400-1591894800@coachesevolve.com
SUMMARY:The Mysteries of the Heart
DESCRIPTION:
URL:https://coachesevolve.com/event/the-mysteries-of-the-heart/
END:VEVENT
BEGIN:VEVENT
DTSTART;TZID=America/Los_Angeles:20200518T160000
DTEND;TZID=America/Los_Angeles:20200518T170000
DTSTAMP:20260422T210558
CREATED:20200517T183848Z
LAST-MODIFIED:20200517T215643Z
UID:158-1589817600-1589821200@coachesevolve.com
SUMMARY:Innovations in Leadership Coaching: Research and Practice – Interview with the Editors
DESCRIPTION:It is our pleasure to announce that Fielding University Press has a new edited book which has been published. The Innovations in Leadership Coaching: Research and Practice monograph has 19 chapters credited to the 27 authors contributing to this original work. Together these individuals bring the best in their fields of research\, theory\, and implications in practice in evidence based coaching (RBC). \nAvailable Now on Amazon \nTake advantage of this opportunity to hear directly from the editors on this project. Join them virtually\, Monday\, May 18th from 4p-5p Pacific by watching on zoom or calling into the bridge provided. \n\n\nJOIN BY ZOOM\nhttps://zoom.us/j/638563458 \nDial by your location (Find your local number: https://zoom.us/u/abgiQBFpiX ) \n+1 669 900 6833 US (San Jose)\n+1 646 558 8656 US (New York) \nMeeting ID: 638 563 458 \n\n\nWhat to Expect\nDuring this panel dialog you will hear from the editorial team of doctors for this monograph. Coming together to discuss the purpose of this book\, and its intended impact on the future of coaching research and practice. The panelist of editors will additionally discuss key themes that emerged and how coaches\, researchers\, students\, and coach educators can use the material in the book to advance the discipline of coaching. \nHosted by Jean-Pierre Isbouts\, D.Litt.\, Doctoral Profession\, School of Leadership Studies\, Fielding Graduate University. \nPanel Speakers\nKathy Norwood EdD\, PCC\, National Educational Consultant\, Coaches Evolve; TNTP Leadership Coach\, and Fielding EBC Faculty \nFrancine Campone\, EdD\, MCC\, Principal at F. Campone Coaching & Consulting \nErek J. Ostrowski\, PhD\, PCC\, Principal at Verve Coaching \nTerry H. Hildebrandt\, PhD\, MCC\, MCEC\, Director of Evidence Based Coaching at Fielding \nFor more on Fielding’s EBC Coach Training Program\, see http://coach.fielding.edu \nTo learn more visit Fielding Graduate University Blog.
URL:https://coachesevolve.com/event/nnovations-in-leadership-coaching-research-and-practice-interview-with-the-editors/
ATTACH;FMTTYPE=image/jpeg:https://coachesevolve.com/wp-content/uploads/2020/05/5-18_webinar_1100x628.jpg
END:VEVENT
END:VCALENDAR